Package: ccmap Version: 1.32.0 Command: /home/biocbuild/R/R/bin/R CMD build --keep-empty-dirs --no-resave-data ccmap StartedAt: 2025-01-30 22:23:12 -0000 (Thu, 30 Jan 2025) EndedAt: 2025-01-30 22:25:25 -0000 (Thu, 30 Jan 2025) EllapsedTime: 133.0 seconds RetCode: 0 Status: OK PackageFile: ccmap_1.32.0.tar.gz PackageFileSize: 471.1 KiB