Package: ccmap Version: 1.32.0 Command: /home/biocbuild/bbs-3.20-bioc/R/bin/R CMD check --install=check:ccmap.install-out.txt --library=/home/biocbuild/bbs-3.20-bioc/R/site-library --timings ccmap_1.32.0.tar.gz StartedAt: 2025-02-10 20:38:42 -0500 (Mon, 10 Feb 2025) EndedAt: 2025-02-10 20:42:33 -0500 (Mon, 10 Feb 2025) EllapsedTime: 231.4 seconds RetCode: 0 Status: WARNINGS CheckDir: ccmap.Rcheck Warnings: 1