Package: ccmap Version: 1.32.0 Command: /Library/Frameworks/R.framework/Resources/bin/R CMD build --keep-empty-dirs --no-resave-data ccmap StartedAt: 2025-01-30 17:45:29 -0500 (Thu, 30 Jan 2025) EndedAt: 2025-01-30 17:49:08 -0500 (Thu, 30 Jan 2025) EllapsedTime: 219.6 seconds RetCode: 0 Status: OK PackageFile: ccmap_1.32.0.tar.gz PackageFileSize: 444.2 KiB