Package: ccmap Version: 1.32.0 Command: /Library/Frameworks/R.framework/Resources/bin/R CMD INSTALL ccmap StartedAt: 2025-01-27 15:41:27 -0500 (Mon, 27 Jan 2025) EndedAt: 2025-01-27 15:41:47 -0500 (Mon, 27 Jan 2025) EllapsedTime: 20.3 seconds RetCode: 0 Status: OK