Package: ccImpute Version: 1.8.0 Command: /home/biocbuild/R/R/bin/R CMD build --keep-empty-dirs --no-resave-data ccImpute StartedAt: 2025-01-27 23:05:25 -0000 (Mon, 27 Jan 2025) EndedAt: 2025-01-27 23:08:51 -0000 (Mon, 27 Jan 2025) EllapsedTime: 206.1 seconds RetCode: 0 Status: OK PackageFile: ccImpute_1.8.0.tar.gz PackageFileSize: 1011 KiB