Package: ccImpute Version: 1.8.0 Command: chmod a+r ccImpute -R && F:\biocbuild\bbs-3.20-bioc\R\bin\R.exe CMD build --keep-empty-dirs --no-resave-data ccImpute StartedAt: 2025-01-27 17:48:35 -0500 (Mon, 27 Jan 2025) EndedAt: 2025-01-27 17:53:21 -0500 (Mon, 27 Jan 2025) EllapsedTime: 286.5 seconds RetCode: 0 Status: OK PackageFile: ccImpute_1.8.0.tar.gz PackageFileSize: 986.2 KiB