Package: ccImpute Version: 1.8.0 Command: /home/biocbuild/bbs-3.20-bioc/R/bin/R CMD check --install=check:ccImpute.install-out.txt --library=/home/biocbuild/bbs-3.20-bioc/R/site-library --timings ccImpute_1.8.0.tar.gz StartedAt: 2025-03-31 20:32:42 -0400 (Mon, 31 Mar 2025) EndedAt: 2025-03-31 20:39:02 -0400 (Mon, 31 Mar 2025) EllapsedTime: 380.3 seconds RetCode: 0 Status: OK CheckDir: ccImpute.Rcheck Warnings: 0