Package: cbpManager Version: 1.14.0 Command: /Library/Frameworks/R.framework/Resources/bin/R CMD check --install=check:cbpManager.install-out.txt --library=/Library/Frameworks/R.framework/Resources/library --no-vignettes --timings cbpManager_1.14.0.tar.gz StartedAt: 2025-04-01 00:21:52 -0400 (Tue, 01 Apr 2025) EndedAt: 2025-04-01 00:24:13 -0400 (Tue, 01 Apr 2025) EllapsedTime: 141.7 seconds RetCode: 0 Status: WARNINGS CheckDir: cbpManager.Rcheck Warnings: 1