Package: cbpManager Version: 1.14.0 Command: /Library/Frameworks/R.framework/Resources/bin/R CMD build --keep-empty-dirs --no-resave-data cbpManager StartedAt: 2025-03-31 17:29:26 -0400 (Mon, 31 Mar 2025) EndedAt: 2025-03-31 17:29:56 -0400 (Mon, 31 Mar 2025) EllapsedTime: 30.4 seconds RetCode: 0 Status: OK PackageFile: cbpManager_1.14.0.tar.gz PackageFileSize: 4.639 MiB