Package: cbaf Version: 1.28.0 Command: /home/biocbuild/R/R/bin/R CMD build --keep-empty-dirs --no-resave-data cbaf StartedAt: 2025-01-27 23:04:25 -0000 (Mon, 27 Jan 2025) EndedAt: 2025-01-27 23:05:50 -0000 (Mon, 27 Jan 2025) EllapsedTime: 85.0 seconds RetCode: 0 Status: OK PackageFile: cbaf_1.28.0.tar.gz PackageFileSize: 810.4 KiB