Package: cbaf Version: 1.28.0 Command: chmod a+r cbaf -R && F:\biocbuild\bbs-3.20-bioc\R\bin\R.exe CMD build --keep-empty-dirs --no-resave-data cbaf StartedAt: 2025-01-27 17:48:00 -0500 (Mon, 27 Jan 2025) EndedAt: 2025-01-27 17:49:35 -0500 (Mon, 27 Jan 2025) EllapsedTime: 95.1 seconds RetCode: 0 Status: OK PackageFile: cbaf_1.28.0.tar.gz PackageFileSize: 785.9 KiB