Package: cbaf Version: 1.28.0 Command: /Library/Frameworks/R.framework/Resources/bin/R CMD INSTALL cbaf StartedAt: 2025-03-31 16:33:05 -0400 (Mon, 31 Mar 2025) EndedAt: 2025-03-31 16:34:36 -0400 (Mon, 31 Mar 2025) EllapsedTime: 91.2 seconds RetCode: 0 Status: OK