Package: cbaf Version: 1.28.0 Command: /Library/Frameworks/R.framework/Resources/bin/R CMD check --install=check:cbaf.install-out.txt --library=/Library/Frameworks/R.framework/Resources/library --no-vignettes --timings cbaf_1.28.0.tar.gz StartedAt: 2025-04-01 00:21:00 -0400 (Tue, 01 Apr 2025) EndedAt: 2025-04-01 00:31:31 -0400 (Tue, 01 Apr 2025) EllapsedTime: 630.7 seconds RetCode: 0 Status: OK CheckDir: cbaf.Rcheck Warnings: 0