Package: cbaf Version: 1.28.0 Command: /Library/Frameworks/R.framework/Resources/bin/R CMD INSTALL cbaf StartedAt: 2025-02-03 18:01:13 -0500 (Mon, 03 Feb 2025) EndedAt: 2025-02-03 18:02:05 -0500 (Mon, 03 Feb 2025) EllapsedTime: 51.8 seconds RetCode: 0 Status: OK