Package: categoryCompare Version: 1.50.0 Command: /Library/Frameworks/R.framework/Resources/bin/R CMD INSTALL categoryCompare StartedAt: 2025-01-27 16:19:17 -0500 (Mon, 27 Jan 2025) EndedAt: 2025-01-27 16:20:21 -0500 (Mon, 27 Jan 2025) EllapsedTime: 63.8 seconds RetCode: 0 Status: OK