Package: categoryCompare Version: 1.50.0 Command: /Library/Frameworks/R.framework/Resources/bin/R CMD build --keep-empty-dirs --no-resave-data categoryCompare StartedAt: 2025-03-31 17:28:30 -0400 (Mon, 31 Mar 2025) EndedAt: 2025-03-31 17:34:25 -0400 (Mon, 31 Mar 2025) EllapsedTime: 355.5 seconds RetCode: 0 Status: OK PackageFile: categoryCompare_1.50.0.tar.gz PackageFileSize: 3.162 MiB