Package: categoryCompare Version: 1.50.0 Command: rm -rf categoryCompare.buildbin-libdir && mkdir categoryCompare.buildbin-libdir && /Users/biocbuild/BBS/utils/build-universal.sh categoryCompare_1.50.0.tar.gz /Library/Frameworks/R.framework/Resources/bin/R categoryCompare.buildbin-libdir StartedAt: 2025-01-28 12:46:00 -0500 (Tue, 28 Jan 2025) EndedAt: 2025-01-28 12:47:12 -0500 (Tue, 28 Jan 2025) EllapsedTime: 71.2 seconds RetCode: 0 Status: OK PackageFile: categoryCompare_1.50.0.tgz PackageFileSize: 2.549 MiB