Package: casper Version: 2.40.0 Command: /home/biocbuild/R/R/bin/R CMD build --keep-empty-dirs --no-resave-data casper StartedAt: 2025-01-27 23:03:12 -0000 (Mon, 27 Jan 2025) EndedAt: 2025-01-27 23:04:53 -0000 (Mon, 27 Jan 2025) EllapsedTime: 101.0 seconds RetCode: 0 Status: OK PackageFile: casper_2.40.0.tar.gz PackageFileSize: 2.256 MiB