Package: casper Version: 2.40.0 Command: /home/biocbuild/bbs-3.20-bioc/R/bin/R CMD INSTALL casper StartedAt: 2025-03-31 15:48:14 -0400 (Mon, 31 Mar 2025) EndedAt: 2025-03-31 15:49:16 -0400 (Mon, 31 Mar 2025) EllapsedTime: 61.7 seconds RetCode: 0 Status: OK