Package: casper Version: 2.40.0 Command: /Library/Frameworks/R.framework/Resources/bin/R CMD INSTALL casper StartedAt: 2025-03-31 17:27:33 -0400 (Mon, 31 Mar 2025) EndedAt: 2025-03-31 17:28:44 -0400 (Mon, 31 Mar 2025) EllapsedTime: 71.3 seconds RetCode: 0 Status: OK