Package: cardelino Version: 1.8.0 Command: chmod a+r cardelino -R && F:\biocbuild\bbs-3.20-bioc\R\bin\R.exe CMD build --keep-empty-dirs --no-resave-data cardelino StartedAt: 2025-01-27 17:46:40 -0500 (Mon, 27 Jan 2025) EndedAt: 2025-01-27 17:48:33 -0500 (Mon, 27 Jan 2025) EllapsedTime: 112.8 seconds RetCode: 0 Status: OK PackageFile: cardelino_1.8.0.tar.gz PackageFileSize: 3.095 MiB