Package: cardelino Version: 1.8.0 Command: /Library/Frameworks/R.framework/Resources/bin/R CMD INSTALL cardelino StartedAt: 2025-02-03 16:28:23 -0500 (Mon, 03 Feb 2025) EndedAt: 2025-02-03 16:29:51 -0500 (Mon, 03 Feb 2025) EllapsedTime: 87.9 seconds RetCode: 0 Status: OK