Package: cancerclass Version: 1.50.0 Command: /home/biocbuild/R/R/bin/R CMD build --keep-empty-dirs --no-resave-data cancerclass StartedAt: 2025-02-03 22:22:40 -0000 (Mon, 03 Feb 2025) EndedAt: 2025-02-03 22:23:11 -0000 (Mon, 03 Feb 2025) EllapsedTime: 31.0 seconds RetCode: 0 Status: OK PackageFile: cancerclass_1.50.0.tar.gz PackageFileSize: 1.519 MiB