Package: cancerclass Version: 1.50.0 Command: /Library/Frameworks/R.framework/Resources/bin/R CMD build --keep-empty-dirs --no-resave-data cancerclass StartedAt: 2025-01-27 17:37:35 -0500 (Mon, 27 Jan 2025) EndedAt: 2025-01-27 17:38:41 -0500 (Mon, 27 Jan 2025) EllapsedTime: 65.4 seconds RetCode: 0 Status: OK PackageFile: cancerclass_1.50.0.tar.gz PackageFileSize: 1.524 MiB