Package: canceR Version: 1.40.0 Command: F:\biocbuild\bbs-3.20-bioc\R\bin\R.exe CMD check --no-multiarch --install=check:canceR.install-out.txt --library=F:\biocbuild\bbs-3.20-bioc\R\library --no-vignettes --timings canceR_1.40.0.tar.gz StartedAt: 2025-03-31 23:41:36 -0400 (Mon, 31 Mar 2025) EndedAt: 2025-03-31 23:49:11 -0400 (Mon, 31 Mar 2025) EllapsedTime: 454.5 seconds RetCode: 0 Status: OK CheckDir: canceR.Rcheck Warnings: 0