Package: canceR Version: 1.40.0 Command: /home/biocbuild/bbs-3.20-bioc/R/bin/R CMD check --install=check:canceR.install-out.txt --library=/home/biocbuild/bbs-3.20-bioc/R/site-library --timings canceR_1.40.0.tar.gz StartedAt: 2025-03-31 20:28:10 -0400 (Mon, 31 Mar 2025) EndedAt: 2025-03-31 20:35:32 -0400 (Mon, 31 Mar 2025) EllapsedTime: 442.4 seconds RetCode: 0 Status: OK CheckDir: canceR.Rcheck Warnings: 0