Package: canceR Version: 1.40.0 Command: /Library/Frameworks/R.framework/Resources/bin/R CMD build --keep-empty-dirs --no-resave-data canceR StartedAt: 2025-01-27 20:06:03 -0500 (Mon, 27 Jan 2025) EndedAt: 2025-01-27 20:08:18 -0500 (Mon, 27 Jan 2025) EllapsedTime: 134.9 seconds RetCode: 0 Status: OK PackageFile: canceR_1.40.0.tar.gz PackageFileSize: 31.46 MiB