Package: cTRAP Version: 1.24.0 Command: rm -rf cTRAP.buildbin-libdir && mkdir cTRAP.buildbin-libdir && F:\biocbuild\bbs-3.20-bioc\R\bin\R.exe CMD INSTALL --build --library=cTRAP.buildbin-libdir cTRAP_1.24.0.tar.gz StartedAt: 2025-02-04 08:18:17 -0500 (Tue, 04 Feb 2025) EndedAt: 2025-02-04 08:19:21 -0500 (Tue, 04 Feb 2025) EllapsedTime: 64.4 seconds RetCode: 0 Status: OK PackageFile: cTRAP_1.24.0.zip PackageFileSize: 5.042 MiB