Package: cTRAP Version: 1.24.0 Command: rm -rf cTRAP.buildbin-libdir && mkdir cTRAP.buildbin-libdir && /Users/biocbuild/BBS/utils/build-universal.sh cTRAP_1.24.0.tar.gz /Library/Frameworks/R.framework/Resources/bin/R cTRAP.buildbin-libdir StartedAt: 2025-01-28 12:55:29 -0500 (Tue, 28 Jan 2025) EndedAt: 2025-01-28 12:56:43 -0500 (Tue, 28 Jan 2025) EllapsedTime: 74.1 seconds RetCode: 0 Status: OK PackageFile: cTRAP_1.24.0.tgz PackageFileSize: 6.53 MiB