Package: cTRAP Version: 1.24.0 Command: /Library/Frameworks/R.framework/Resources/bin/R CMD INSTALL cTRAP StartedAt: 2025-02-03 17:05:07 -0500 (Mon, 03 Feb 2025) EndedAt: 2025-02-03 17:05:44 -0500 (Mon, 03 Feb 2025) EllapsedTime: 36.5 seconds RetCode: 0 Status: OK