Package: cTRAP Version: 1.24.0 Command: /Library/Frameworks/R.framework/Resources/bin/R CMD build --keep-empty-dirs --no-resave-data cTRAP StartedAt: 2025-03-31 21:40:15 -0400 (Mon, 31 Mar 2025) EndedAt: 2025-03-31 21:42:21 -0400 (Mon, 31 Mar 2025) EllapsedTime: 126.1 seconds RetCode: 0 Status: OK PackageFile: cTRAP_1.24.0.tar.gz PackageFileSize: 5.298 MiB