Package: cBioPortalData Version: 2.18.1 Command: F:\biocbuild\bbs-3.20-bioc\R\bin\R.exe CMD check --no-multiarch --install=check:cBioPortalData.install-out.txt --library=F:\biocbuild\bbs-3.20-bioc\R\library --no-vignettes --timings cBioPortalData_2.18.1.tar.gz StartedAt: 2025-01-31 00:15:35 -0500 (Fri, 31 Jan 2025) EndedAt: 2025-01-31 00:22:25 -0500 (Fri, 31 Jan 2025) EllapsedTime: 410.3 seconds RetCode: 0 Status: OK CheckDir: cBioPortalData.Rcheck Warnings: 0