Package: cBioPortalData Version: 2.18.2 Command: chmod a+r cBioPortalData -R && F:\biocbuild\bbs-3.20-bioc\R\bin\R.exe CMD build --keep-empty-dirs --no-resave-data cBioPortalData StartedAt: 2025-03-31 17:48:32 -0400 (Mon, 31 Mar 2025) EndedAt: 2025-03-31 17:51:52 -0400 (Mon, 31 Mar 2025) EllapsedTime: 200.7 seconds RetCode: 0 Status: OK PackageFile: cBioPortalData_2.18.2.tar.gz PackageFileSize: 970.5 KiB