Package: cBioPortalData Version: 2.18.2 Command: /Library/Frameworks/R.framework/Resources/bin/R CMD INSTALL cBioPortalData StartedAt: 2025-03-31 16:36:25 -0400 (Mon, 31 Mar 2025) EndedAt: 2025-03-31 16:37:14 -0400 (Mon, 31 Mar 2025) EllapsedTime: 48.7 seconds RetCode: 0 Status: OK