Package: bumphunter Version: 1.48.0 Command: /home/biocbuild/R/R/bin/R CMD check --install=check:bumphunter.install-out.txt --library=/home/biocbuild/R/R/site-library --no-vignettes --timings bumphunter_1.48.0.tar.gz StartedAt: 2025-04-01 04:41:14 -0000 (Tue, 01 Apr 2025) EndedAt: 2025-04-01 04:51:40 -0000 (Tue, 01 Apr 2025) EllapsedTime: 625.4 seconds RetCode: 0 Status: OK CheckDir: bumphunter.Rcheck Warnings: 0