Package: bumphunter Version: 1.48.0 Command: rm -rf bumphunter.buildbin-libdir && mkdir bumphunter.buildbin-libdir && F:\biocbuild\bbs-3.20-bioc\R\bin\R.exe CMD INSTALL --build --library=bumphunter.buildbin-libdir bumphunter_1.48.0.tar.gz StartedAt: 2025-02-04 08:06:46 -0500 (Tue, 04 Feb 2025) EndedAt: 2025-02-04 08:07:32 -0500 (Tue, 04 Feb 2025) EllapsedTime: 46.6 seconds RetCode: 0 Status: OK PackageFile: bumphunter_1.48.0.zip PackageFileSize: 4.214 MiB