Package: bumphunter Version: 1.48.0 Command: /Library/Frameworks/R.framework/Resources/bin/R CMD build --keep-empty-dirs --no-resave-data bumphunter StartedAt: 2024-11-08 16:19:02 -0500 (Fri, 08 Nov 2024) EndedAt: 2024-11-08 16:19:22 -0500 (Fri, 08 Nov 2024) EllapsedTime: 20.2 seconds RetCode: 0 Status: OK PackageFile: bumphunter_1.48.0.tar.gz PackageFileSize: 2.365 MiB