Package: bumphunter Version: 1.48.0 Command: /Library/Frameworks/R.framework/Resources/bin/R CMD check --install=check:bumphunter.install-out.txt --library=/Library/Frameworks/R.framework/Resources/library --no-vignettes --timings bumphunter_1.48.0.tar.gz StartedAt: 2025-01-31 13:07:22 -0500 (Fri, 31 Jan 2025) EndedAt: 2025-01-31 13:15:27 -0500 (Fri, 31 Jan 2025) EllapsedTime: 485.0 seconds RetCode: 0 Status: OK CheckDir: bumphunter.Rcheck Warnings: 0