Package: bsseq Version: 1.42.0 Command: rm -rf bsseq.buildbin-libdir && mkdir bsseq.buildbin-libdir && F:\biocbuild\bbs-3.20-bioc\R\bin\R.exe CMD INSTALL --build --library=bsseq.buildbin-libdir bsseq_1.42.0.tar.gz StartedAt: 2025-01-28 07:46:51 -0500 (Tue, 28 Jan 2025) EndedAt: 2025-01-28 07:48:28 -0500 (Tue, 28 Jan 2025) EllapsedTime: 97.5 seconds RetCode: 0 Status: OK PackageFile: bsseq_1.42.0.zip PackageFileSize: 3.908 MiB