Package: bsseq Version: 1.42.0 Command: /Library/Frameworks/R.framework/Resources/bin/R CMD INSTALL bsseq StartedAt: 2025-01-27 16:12:02 -0500 (Mon, 27 Jan 2025) EndedAt: 2025-01-27 16:13:19 -0500 (Mon, 27 Jan 2025) EllapsedTime: 77.2 seconds RetCode: 0 Status: OK