Package: bsseq Version: 1.42.0 Command: rm -rf bsseq.buildbin-libdir && mkdir bsseq.buildbin-libdir && /Users/biocbuild/BBS/utils/build-universal.sh bsseq_1.42.0.tar.gz /Library/Frameworks/R.framework/Resources/bin/R bsseq.buildbin-libdir StartedAt: 2025-01-29 13:52:34 -0500 (Wed, 29 Jan 2025) EndedAt: 2025-01-29 13:53:42 -0500 (Wed, 29 Jan 2025) EllapsedTime: 67.9 seconds RetCode: 0 Status: OK PackageFile: bsseq_1.42.0.tgz PackageFileSize: 3.742 MiB