Package: broadSeq Version: 1.0.0 Command: F:\biocbuild\bbs-3.20-bioc\R\bin\R.exe CMD INSTALL broadSeq StartedAt: 2025-02-03 16:29:08 -0500 (Mon, 03 Feb 2025) EndedAt: 2025-02-03 16:29:57 -0500 (Mon, 03 Feb 2025) EllapsedTime: 48.9 seconds RetCode: 0 Status: OK