Package: broadSeq Version: 1.0.0 Command: chmod a+r broadSeq -R && F:\biocbuild\bbs-3.20-bioc\R\bin\R.exe CMD build --keep-empty-dirs --no-resave-data broadSeq StartedAt: 2025-01-30 17:41:00 -0500 (Thu, 30 Jan 2025) EndedAt: 2025-01-30 17:44:03 -0500 (Thu, 30 Jan 2025) EllapsedTime: 182.5 seconds RetCode: 0 Status: OK PackageFile: broadSeq_1.0.0.tar.gz PackageFileSize: 2.943 MiB