Package: broadSeq Version: 1.0.0 Command: rm -rf broadSeq.buildbin-libdir && mkdir broadSeq.buildbin-libdir && F:\biocbuild\bbs-3.20-bioc\R\bin\R.exe CMD INSTALL --build --library=broadSeq.buildbin-libdir broadSeq_1.0.0.tar.gz StartedAt: 2025-02-04 08:06:18 -0500 (Tue, 04 Feb 2025) EndedAt: 2025-02-04 08:07:08 -0500 (Tue, 04 Feb 2025) EllapsedTime: 50.2 seconds RetCode: 0 Status: OK PackageFile: broadSeq_1.0.0.zip PackageFileSize: 2.933 MiB