Package: broadSeq Version: 1.0.0 Command: /Library/Frameworks/R.framework/Resources/bin/R CMD INSTALL broadSeq StartedAt: 2025-03-31 16:35:43 -0400 (Mon, 31 Mar 2025) EndedAt: 2025-03-31 16:36:57 -0400 (Mon, 31 Mar 2025) EllapsedTime: 73.7 seconds RetCode: 0 Status: OK