Package: broadSeq Version: 1.0.0 Command: rm -rf broadSeq.buildbin-libdir && mkdir broadSeq.buildbin-libdir && /Users/biocbuild/BBS/utils/build-universal.sh broadSeq_1.0.0.tar.gz /Library/Frameworks/R.framework/Resources/bin/R broadSeq.buildbin-libdir StartedAt: 2025-01-28 12:44:28 -0500 (Tue, 28 Jan 2025) EndedAt: 2025-01-28 12:45:49 -0500 (Tue, 28 Jan 2025) EllapsedTime: 80.8 seconds RetCode: 0 Status: OK PackageFile: broadSeq_1.0.0.tgz PackageFileSize: 4.039 MiB