Package: brendaDb Version: 1.20.0 Command: /home/biocbuild/R/R/bin/R CMD INSTALL brendaDb StartedAt: 2025-02-10 20:23:43 -0000 (Mon, 10 Feb 2025) EndedAt: 2025-02-10 20:23:59 -0000 (Mon, 10 Feb 2025) EllapsedTime: 15.5 seconds RetCode: 0 Status: OK