Package: brendaDb Version: 1.20.0 Command: /home/biocbuild/R/R/bin/R CMD build --keep-empty-dirs --no-resave-data brendaDb StartedAt: 2025-02-10 22:01:54 -0000 (Mon, 10 Feb 2025) EndedAt: 2025-02-10 22:02:29 -0000 (Mon, 10 Feb 2025) EllapsedTime: 35.0 seconds RetCode: 0 Status: OK PackageFile: brendaDb_1.20.0.tar.gz PackageFileSize: 719.8 KiB