Package: brendaDb Version: 1.20.0 Command: /Library/Frameworks/R.framework/Resources/bin/R CMD INSTALL brendaDb StartedAt: 2025-03-31 15:25:32 -0400 (Mon, 31 Mar 2025) EndedAt: 2025-03-31 15:25:59 -0400 (Mon, 31 Mar 2025) EllapsedTime: 26.9 seconds RetCode: 0 Status: OK