Package: brendaDb Version: 1.20.0 Command: /home/biocbuild/R/R/bin/R CMD build --keep-empty-dirs --no-resave-data brendaDb StartedAt: 2024-11-19 23:23:06 -0000 (Tue, 19 Nov 2024) EndedAt: 2024-11-19 23:23:44 -0000 (Tue, 19 Nov 2024) EllapsedTime: 38.1 seconds RetCode: 0 Status: OK PackageFile: brendaDb_1.20.0.tar.gz PackageFileSize: 719.8 KiB